BEGIN:VCALENDAR
VERSION:2.0
PRODID:-//wp-events-plugin.com//7.2.3.1//EN
BEGIN:VEVENT
UID:470@indith-konzept.de
DTSTART;VALUE=DATE:20250509
DTEND;VALUE=DATE:20250512
DTSTAMP:20250107T143455Z
URL:https://www.indith-konzept.de/events/systematische-diagnostik-und-ther
 apie-der-lendenwirbelsaeule-und-des-beckens-12/
SUMMARY:systematische Diagnostik und Therapie der Lendenwirbelsäule und de
 s Beckens
DESCRIPTION:
CATEGORIES:Lendenwirbelsäule
LOCATION:ZAR Akademie im medicos\, Parkallee 5 Haus2\, Gelsenkirchen\, 4589
 1\, Deutschland
X-APPLE-STRUCTURED-LOCATION;VALUE=URI;X-ADDRESS=Parkallee 5 Haus2\, Gelsenk
 irchen\, 45891\, Deutschland;X-APPLE-RADIUS=100;X-TITLE=ZAR Akademie im me
 dicos:geo:0,0
END:VEVENT
END:VCALENDAR