BEGIN:VCALENDAR
VERSION:2.0
PRODID:-//wp-events-plugin.com//7.2.3.1//EN
BEGIN:VEVENT
UID:492@indith-konzept.de
DTSTART:20261001T000000Z
DTEND:20261003T000000Z
DTSTAMP:20251217T185450Z
URL:https://www.indith-konzept.de/events/die-schulter-in-der-konservativen
 -und-postoperativen-rehabilitation-49/
SUMMARY:Die Schulter in der konservativen und postoperativen Rehabilitation
DESCRIPTION:
CATEGORIES:Schulter
LOCATION:Heimerer Akademie Leipzig\, Hohmannstraße 7b\, Leipzig\, 04129\, 
 Deutschland
X-APPLE-STRUCTURED-LOCATION;VALUE=URI;X-ADDRESS=Hohmannstraße 7b\, Leipzig
 \, 04129\, Deutschland;X-APPLE-RADIUS=100;X-TITLE=Heimerer Akademie Leipzi
 g:geo:0,0
END:VEVENT
END:VCALENDAR