BEGIN:VCALENDAR
VERSION:2.0
PRODID:-//wp-events-plugin.com//7.2.3.1//EN
BEGIN:VEVENT
UID:424@indith-konzept.de
DTSTART;VALUE=DATE:20240412
DTEND;VALUE=DATE:20240415
DTSTAMP:20231215T090330Z
URL:https://www.indith-konzept.de/events/die-schulter-in-der-konservativen
 -und-postoperativen-rehabilitation-41/
SUMMARY:Die Schulter in der konservativen und postoperativen Rehabilitation
DESCRIPTION:
CATEGORIES:Schulter
LOCATION:Trier VPT Rheinlandpfalz- Saarland\, Ruwererstr. 15\, Trier\, Rhei
 nland-Pfalz\, 54292\, Trier\, Deutschland
GEO:49.76159;6.65077
X-APPLE-STRUCTURED-LOCATION;VALUE=URI;X-ADDRESS=Ruwererstr. 15\, Trier\, Rh
 einland-Pfalz\, 54292\, Trier\, Deutschland;X-APPLE-RADIUS=100;X-TITLE=Tri
 er VPT Rheinlandpfalz- Saarland:geo:49.76159,6.65077
END:VEVENT
END:VCALENDAR