BEGIN:VCALENDAR
VERSION:2.0
PRODID:-//wp-events-plugin.com//7.2.3.1//EN
BEGIN:VEVENT
UID:352@indith-konzept.de
DTSTART;VALUE=DATE:20211015
DTEND;VALUE=DATE:20211018
DTSTAMP:20200715T074724Z
URL:https://www.indith-konzept.de/events/die-schulter-in-der-konservativen
 -und-postoperativen-rehabilitation-25/
SUMMARY:Die Schulter in der konservativen und postoperativen Rehabilitation
DESCRIPTION:
CATEGORIES:Schulter
LOCATION:FORTIS-AKADEMIE\, An der Wiesenmühle 1\, Chemnitz\, 09224\, Deuts
 chland
X-APPLE-STRUCTURED-LOCATION;VALUE=URI;X-ADDRESS=An der Wiesenmühle 1\, Che
 mnitz\, 09224\, Deutschland;X-APPLE-RADIUS=100;X-TITLE=FORTIS-AKADEMIE:geo
 :0,0
END:VEVENT
END:VCALENDAR