BEGIN:VCALENDAR
VERSION:2.0
PRODID:-//wp-events-plugin.com//7.2.3.1//EN
BEGIN:VEVENT
UID:176@indith-konzept.de
DTSTART;VALUE=DATE:20180126
DTEND;VALUE=DATE:20180129
DTSTAMP:20171218T204724Z
URL:https://www.indith-konzept.de/events/die-schulter-in-der-konservativen
 -und-postoperativen-rehabilitation-2/
SUMMARY:Die Schulter in der konservativen und postoperativen Rehabilitation
DESCRIPTION:
CATEGORIES:Schulter
LOCATION:Physiotherapieschule Kaiserslautern\, Europaallee 14-16\, Kaisersl
 autern\, Rheinland-Pfalz\, 67657\, Kaiserslautern\, Deutschland
GEO:49.455811;7.805760
X-APPLE-STRUCTURED-LOCATION;VALUE=URI;X-ADDRESS=Europaallee 14-16\, Kaisers
 lautern\, Rheinland-Pfalz\, 67657\, Kaiserslautern\, Deutschland;X-APPLE-R
 ADIUS=100;X-TITLE=Physiotherapieschule Kaiserslautern:geo:49.455811,7.8057
 60
END:VEVENT
END:VCALENDAR